BEGIN:VCALENDAR
VERSION:2.0
PRODID:-//Düne Lüneburg - ECPv6.15.20//NONSGML v1.0//EN
CALSCALE:GREGORIAN
METHOD:PUBLISH
X-WR-CALNAME:Düne Lüneburg
X-ORIGINAL-URL:https://duene-lueneburg.de
X-WR-CALDESC:Veranstaltungen für Düne Lüneburg
REFRESH-INTERVAL;VALUE=DURATION:PT1H
X-Robots-Tag:noindex
X-PUBLISHED-TTL:PT1H
BEGIN:VTIMEZONE
TZID:Europe/Berlin
BEGIN:DAYLIGHT
TZOFFSETFROM:+0100
TZOFFSETTO:+0200
TZNAME:CEST
DTSTART:20240331T010000
END:DAYLIGHT
BEGIN:STANDARD
TZOFFSETFROM:+0200
TZOFFSETTO:+0100
TZNAME:CET
DTSTART:20241027T010000
END:STANDARD
BEGIN:DAYLIGHT
TZOFFSETFROM:+0100
TZOFFSETTO:+0200
TZNAME:CEST
DTSTART:20250330T010000
END:DAYLIGHT
BEGIN:STANDARD
TZOFFSETFROM:+0200
TZOFFSETTO:+0100
TZNAME:CET
DTSTART:20251026T010000
END:STANDARD
BEGIN:DAYLIGHT
TZOFFSETFROM:+0100
TZOFFSETTO:+0200
TZNAME:CEST
DTSTART:20260329T010000
END:DAYLIGHT
BEGIN:STANDARD
TZOFFSETFROM:+0200
TZOFFSETTO:+0100
TZNAME:CET
DTSTART:20261025T010000
END:STANDARD
END:VTIMEZONE
BEGIN:VEVENT
DTSTART;TZID=Europe/Berlin:20250428T180000
DTEND;TZID=Europe/Berlin:20250428T210000
DTSTAMP:20260423T083038
CREATED:20250417T133759Z
LAST-MODIFIED:20250417T133800Z
UID:4548-1745863200-1745874000@duene-lueneburg.de
SUMMARY:Wortkollektiv @ Halle für Kunst
DESCRIPTION:Das Wortkollektiv besucht die Halle für Kunst Lüneburg e.V. und schreibt vor Ort.
URL:https://duene-lueneburg.de/veranstaltung/wortkollektiv-halle-fuer-kunst-2/
END:VEVENT
END:VCALENDAR