BEGIN:VCALENDAR
VERSION:2.0
PRODID:-//Düne Lüneburg - ECPv6.15.20//NONSGML v1.0//EN
CALSCALE:GREGORIAN
METHOD:PUBLISH
X-WR-CALNAME:Düne Lüneburg
X-ORIGINAL-URL:https://duene-lueneburg.de
X-WR-CALDESC:Veranstaltungen für Düne Lüneburg
REFRESH-INTERVAL;VALUE=DURATION:PT1H
X-Robots-Tag:noindex
X-PUBLISHED-TTL:PT1H
BEGIN:VTIMEZONE
TZID:Europe/Berlin
BEGIN:DAYLIGHT
TZOFFSETFROM:+0100
TZOFFSETTO:+0200
TZNAME:CEST
DTSTART:20240331T010000
END:DAYLIGHT
BEGIN:STANDARD
TZOFFSETFROM:+0200
TZOFFSETTO:+0100
TZNAME:CET
DTSTART:20241027T010000
END:STANDARD
BEGIN:DAYLIGHT
TZOFFSETFROM:+0100
TZOFFSETTO:+0200
TZNAME:CEST
DTSTART:20250330T010000
END:DAYLIGHT
BEGIN:STANDARD
TZOFFSETFROM:+0200
TZOFFSETTO:+0100
TZNAME:CET
DTSTART:20251026T010000
END:STANDARD
BEGIN:DAYLIGHT
TZOFFSETFROM:+0100
TZOFFSETTO:+0200
TZNAME:CEST
DTSTART:20260329T010000
END:DAYLIGHT
BEGIN:STANDARD
TZOFFSETFROM:+0200
TZOFFSETTO:+0100
TZNAME:CET
DTSTART:20261025T010000
END:STANDARD
END:VTIMEZONE
BEGIN:VEVENT
DTSTART;TZID=Europe/Berlin:20250801T180000
DTEND;TZID=Europe/Berlin:20250801T193000
DTSTAMP:20260419T142939
CREATED:20250217T125237Z
LAST-MODIFIED:20250417T122758Z
UID:10004479-1754071200-1754076600@duene-lueneburg.de
SUMMARY:Wort & Werk
DESCRIPTION:Werkstattgespräche mit dem Wortkollektiv. \n\n\n\nBegrenzte Teilnehmer*innenzahl\, Anmeldung nötig.
URL:https://duene-lueneburg.de/veranstaltung/wort-werk-2/2025-08-01/
LOCATION:DÜNE – Bildungs- und Kulturzentrum\, Am Sande 27\, Lüneburg
ATTACH;FMTTYPE=image/png:https://duene-lueneburg.de/wp-content/uploads/2025/02/wallpaper-8590457_1280.png
END:VEVENT
END:VCALENDAR