BEGIN:VCALENDAR
VERSION:2.0
PRODID:-//Düne Lüneburg - ECPv6.15.20//NONSGML v1.0//EN
CALSCALE:GREGORIAN
METHOD:PUBLISH
X-WR-CALNAME:Düne Lüneburg
X-ORIGINAL-URL:https://duene-lueneburg.de
X-WR-CALDESC:Veranstaltungen für Düne Lüneburg
REFRESH-INTERVAL;VALUE=DURATION:PT1H
X-Robots-Tag:noindex
X-PUBLISHED-TTL:PT1H
BEGIN:VTIMEZONE
TZID:Europe/Berlin
BEGIN:DAYLIGHT
TZOFFSETFROM:+0100
TZOFFSETTO:+0200
TZNAME:CEST
DTSTART:20230326T010000
END:DAYLIGHT
BEGIN:STANDARD
TZOFFSETFROM:+0200
TZOFFSETTO:+0100
TZNAME:CET
DTSTART:20231029T010000
END:STANDARD
BEGIN:DAYLIGHT
TZOFFSETFROM:+0100
TZOFFSETTO:+0200
TZNAME:CEST
DTSTART:20240331T010000
END:DAYLIGHT
BEGIN:STANDARD
TZOFFSETFROM:+0200
TZOFFSETTO:+0100
TZNAME:CET
DTSTART:20241027T010000
END:STANDARD
BEGIN:DAYLIGHT
TZOFFSETFROM:+0100
TZOFFSETTO:+0200
TZNAME:CEST
DTSTART:20250330T010000
END:DAYLIGHT
BEGIN:STANDARD
TZOFFSETFROM:+0200
TZOFFSETTO:+0100
TZNAME:CET
DTSTART:20251026T010000
END:STANDARD
END:VTIMEZONE
BEGIN:VEVENT
DTSTART;TZID=Europe/Berlin:20240309T140000
DTEND;TZID=Europe/Berlin:20240309T153000
DTSTAMP:20260419T140446
CREATED:20240227T130516Z
LAST-MODIFIED:20250208T081517Z
UID:10002984-1709992800-1709998200@duene-lueneburg.de
SUMMARY:Ukulele-Stunde
DESCRIPTION:Liebe Uku-Freund*innen\,weiter gehts! Wir treffen uns wieder zum Proben.
URL:https://duene-lueneburg.de/veranstaltung/ukulele-stunde-2/2024-03-09/
LOCATION:DÜNE – Bildungs- und Kulturzentrum\, Am Sande 27\, Lüneburg
CATEGORIES:Musik
ATTACH;FMTTYPE=image/jpeg:https://duene-lueneburg.de/wp-content/uploads/2022/12/ukulele-gb66c5dc0f_1280.jpg
END:VEVENT
END:VCALENDAR