BEGIN:VCALENDAR
VERSION:2.0
PRODID:-//Düne Lüneburg - ECPv6.15.20//NONSGML v1.0//EN
CALSCALE:GREGORIAN
METHOD:PUBLISH
X-WR-CALNAME:Düne Lüneburg
X-ORIGINAL-URL:https://duene-lueneburg.de
X-WR-CALDESC:Veranstaltungen für Düne Lüneburg
REFRESH-INTERVAL;VALUE=DURATION:PT1H
X-Robots-Tag:noindex
X-PUBLISHED-TTL:PT1H
BEGIN:VTIMEZONE
TZID:Europe/Berlin
BEGIN:DAYLIGHT
TZOFFSETFROM:+0100
TZOFFSETTO:+0200
TZNAME:CEST
DTSTART:20230326T010000
END:DAYLIGHT
BEGIN:STANDARD
TZOFFSETFROM:+0200
TZOFFSETTO:+0100
TZNAME:CET
DTSTART:20231029T010000
END:STANDARD
BEGIN:DAYLIGHT
TZOFFSETFROM:+0100
TZOFFSETTO:+0200
TZNAME:CEST
DTSTART:20240331T010000
END:DAYLIGHT
BEGIN:STANDARD
TZOFFSETFROM:+0200
TZOFFSETTO:+0100
TZNAME:CET
DTSTART:20241027T010000
END:STANDARD
BEGIN:DAYLIGHT
TZOFFSETFROM:+0100
TZOFFSETTO:+0200
TZNAME:CEST
DTSTART:20250330T010000
END:DAYLIGHT
BEGIN:STANDARD
TZOFFSETFROM:+0200
TZOFFSETTO:+0100
TZNAME:CET
DTSTART:20251026T010000
END:STANDARD
END:VTIMEZONE
BEGIN:VEVENT
DTSTART;TZID=Europe/Berlin:20240617T170000
DTEND;TZID=Europe/Berlin:20240617T210000
DTSTAMP:20260425T022538
CREATED:20240529T171902Z
LAST-MODIFIED:20240529T171904Z
UID:10003245-1718643600-1718658000@duene-lueneburg.de
SUMMARY:Schreib-Performances
DESCRIPTION:Nach h a l l  \n\n\n\nEin Dialog von Kunst zu Kunst \n\n\n\nSeit Ende 2023 öffnet sich die Halle für Kunst für das Lüneburger Wortkollektiv – die Autor*innengruppe aus dem Bildungs- und Kulturzentrum DÜNE. Die Autor*innen transformieren unter der Leitung von Jess Tartas und Morton Tartas\, sowie Lukas Kretschmer die ästhetischen Erfahrungen ihrer Kunst-Rezeption und verleihen dieser Ausdruck in Form einer Ausstellung. \n\n\n\nDabei haben sowohl die ausgestellten Werke\, sowie der Raum der Halle\, in dem sich künstlerische Prozesse vollziehen\, einen Einfluss auf die Texte\, die die Gruppe produziert hat.  \n\n\n\nDie so entstandene Prosa und Lyrik dient wiederum als Grundlage für die Produktion von plastischen Werken und Installationen\, die nun in einer Blitzausstellung von der Halle für Kunst präsentiert werden. \n\n\n\nDas von Aktion-Mensch geförderte Projekt hat zum Ziel\, Barrieren abzubauen und Interessierten den Zugang zur Kunst in klassischen und unkonventionellen Formaten zu bieten. \n\n\n\nDie Ergebnisse dieser Grenzüberschreitungen lassen einen Nach h a l l erklingen\, der vom 10.06. bis zum 24.06 in der Halle für Kunst erlebbar wird.  \n\n\n\n[Leichte Sprache:] \n\n\n\nKunstausstellung mit dem Titel: Nach h a l l \n\n\n\nSeit 2023 finden ein Kunstkurs in der Halle für Kunst statt. \n\n\n\nDie Autor*innen des Wortkollektivs aus der Lüneburger DÜNE haben sich die ausgestellte Kunst angesehen. \n\n\n\nSie haben sich davon inspirierenlassen und Texte und neue Kunstwerke geschaffen.  \n\n\n\nJetzt werden die neuen Werke in der Halle für Kunst ausgestellt. Herzliche Einladung zur Eröffnung der Ausstellung am 10.06. um 19 Uhr. Die Ausstellung kann bis zum 24.06. in der Halle für Kunst besucht werden.  \n\n\n\nWeitere Termine:  \n\n\n\nSchreibzeiten:  \n\n\n\nFreitag\, 14.06.\, 17-21 Uhr \n\n\n\nMontag 17.06.\, 17-21 Uhr \n\n\n\n \n\n\n\nLesung \n\n\n\nMontag\, 24.06.\,19 Uhr
URL:https://duene-lueneburg.de/veranstaltung/schreib-performances/2024-06-17/
LOCATION:Halle für Kunst Lüneburg e.V.\, Reichenbachstraße 2\, 21335 Lüneburg
ORGANIZER;CN="Jess &amp%3B Morton Tartas/Halle f%C3%BCr Kunst":MAILTO:j.tartas@lhlh.org
END:VEVENT
END:VCALENDAR