BEGIN:VCALENDAR
VERSION:2.0
PRODID:-//Düne Lüneburg - ECPv6.15.20//NONSGML v1.0//EN
CALSCALE:GREGORIAN
METHOD:PUBLISH
X-WR-CALNAME:Düne Lüneburg
X-ORIGINAL-URL:https://duene-lueneburg.de
X-WR-CALDESC:Veranstaltungen für Düne Lüneburg
REFRESH-INTERVAL;VALUE=DURATION:PT1H
X-Robots-Tag:noindex
X-PUBLISHED-TTL:PT1H
BEGIN:VTIMEZONE
TZID:Europe/Berlin
BEGIN:DAYLIGHT
TZOFFSETFROM:+0100
TZOFFSETTO:+0200
TZNAME:CEST
DTSTART:20240331T010000
END:DAYLIGHT
BEGIN:STANDARD
TZOFFSETFROM:+0200
TZOFFSETTO:+0100
TZNAME:CET
DTSTART:20241027T010000
END:STANDARD
BEGIN:DAYLIGHT
TZOFFSETFROM:+0100
TZOFFSETTO:+0200
TZNAME:CEST
DTSTART:20250330T010000
END:DAYLIGHT
BEGIN:STANDARD
TZOFFSETFROM:+0200
TZOFFSETTO:+0100
TZNAME:CET
DTSTART:20251026T010000
END:STANDARD
BEGIN:DAYLIGHT
TZOFFSETFROM:+0100
TZOFFSETTO:+0200
TZNAME:CEST
DTSTART:20260329T010000
END:DAYLIGHT
BEGIN:STANDARD
TZOFFSETFROM:+0200
TZOFFSETTO:+0100
TZNAME:CET
DTSTART:20261025T010000
END:STANDARD
END:VTIMEZONE
BEGIN:VEVENT
DTSTART;TZID=Europe/Berlin:20250517T100000
DTEND;TZID=Europe/Berlin:20250517T153000
DTSTAMP:20260421T110905
CREATED:20250417T123632Z
LAST-MODIFIED:20250517T125048Z
UID:10004750-1747476000-1747495800@duene-lueneburg.de
SUMMARY:RätselDÜNE
DESCRIPTION:Welten bauen\, Story schreiben\, mit Rätseln verbinden und bauen\, basteln\, tüfteln. \n\n\n\nDas von Aktion Mensch geförderter Projekt des vnb ist in der DÜNE und baut mit euch ein einmaliges Exit-Game! \n\n\n\nBitte mit Anmeldung.
URL:https://duene-lueneburg.de/veranstaltung/raetselduene-6/2025-05-17/
ATTACH;FMTTYPE=image/jpeg:https://duene-lueneburg.de/wp-content/uploads/2025/04/puzzle-5294291_1280.jpg
END:VEVENT
END:VCALENDAR