BEGIN:VCALENDAR
VERSION:2.0
PRODID:-//Düne Lüneburg - ECPv6.15.20//NONSGML v1.0//EN
CALSCALE:GREGORIAN
METHOD:PUBLISH
X-WR-CALNAME:Düne Lüneburg
X-ORIGINAL-URL:https://duene-lueneburg.de
X-WR-CALDESC:Veranstaltungen für Düne Lüneburg
REFRESH-INTERVAL;VALUE=DURATION:PT1H
X-Robots-Tag:noindex
X-PUBLISHED-TTL:PT1H
BEGIN:VTIMEZONE
TZID:Europe/Berlin
BEGIN:DAYLIGHT
TZOFFSETFROM:+0100
TZOFFSETTO:+0200
TZNAME:CEST
DTSTART:20230326T010000
END:DAYLIGHT
BEGIN:STANDARD
TZOFFSETFROM:+0200
TZOFFSETTO:+0100
TZNAME:CET
DTSTART:20231029T010000
END:STANDARD
BEGIN:DAYLIGHT
TZOFFSETFROM:+0100
TZOFFSETTO:+0200
TZNAME:CEST
DTSTART:20240331T010000
END:DAYLIGHT
BEGIN:STANDARD
TZOFFSETFROM:+0200
TZOFFSETTO:+0100
TZNAME:CET
DTSTART:20241027T010000
END:STANDARD
BEGIN:DAYLIGHT
TZOFFSETFROM:+0100
TZOFFSETTO:+0200
TZNAME:CEST
DTSTART:20250330T010000
END:DAYLIGHT
BEGIN:STANDARD
TZOFFSETFROM:+0200
TZOFFSETTO:+0100
TZNAME:CET
DTSTART:20251026T010000
END:STANDARD
END:VTIMEZONE
BEGIN:VEVENT
DTSTART;TZID=Europe/Berlin:20240927T183000
DTEND;TZID=Europe/Berlin:20240927T220000
DTSTAMP:20260424T141107
CREATED:20240529T175356Z
LAST-MODIFIED:20240917T104839Z
UID:2900-1727461800-1727474400@duene-lueneburg.de
SUMMARY:Offene [DÜNE] Bühne
DESCRIPTION:Der Herbst ist da! Doch wir denken noch an den Sommer! Bei unserer diesjährigen letzten Offenen [DÜNE] Bühne am 27.09.2024 laden wir euch alle nochmal zu einem musikalischen Abend in der DÜNE ein. Die RPW präsentiert ihr neues RPW-Summer-Medley und hat tolle Gastsänger*innen eingeladen.  \n\n\n\nKommt vorbei und holt euch eine letzte Portion Sommergefühle\, bevor es richtig frisch wird! \n\n\n\nDer Abend beginnt um 18:30 Uhr und wird von der RPW (DÜNE-Band) eröffnet. Daraufhin werden wir von der musikalischen Vielfalt Lüneburgs verzaubert. Verschiedene lokale Künstler*innen treten auf und teilen mit uns ihre Musik. \n\n\n\nDer Abend endet- wie immer- mit einer Jam-Session\, bei der ALLE mitsingen oder mitspielen können. \n\n\n\nHabt ihr Fragen? Oder seid ihr Musiker*innen und habt Lust auf die Bühne zu gehen und einen warmen Applaus zu erhalten?  \n\n\n\nMeldet euch bei bei der Organisatorin Sandra Kawka\, per Mail: s.kawka@lhlh.org
URL:https://duene-lueneburg.de/veranstaltung/offene-duene-buehne/
LOCATION:DÜNE – Bildungs- und Kulturzentrum\, Am Sande 27\, Lüneburg
ORGANIZER;CN="Sandra Kawka":MAILTO:s.kawka@lhlh.org
END:VEVENT
END:VCALENDAR