BEGIN:VCALENDAR
VERSION:2.0
PRODID:-//Düne Lüneburg - ECPv6.15.20//NONSGML v1.0//EN
CALSCALE:GREGORIAN
METHOD:PUBLISH
X-WR-CALNAME:Düne Lüneburg
X-ORIGINAL-URL:https://duene-lueneburg.de
X-WR-CALDESC:Veranstaltungen für Düne Lüneburg
REFRESH-INTERVAL;VALUE=DURATION:PT1H
X-Robots-Tag:noindex
X-PUBLISHED-TTL:PT1H
BEGIN:VTIMEZONE
TZID:Europe/Berlin
BEGIN:DAYLIGHT
TZOFFSETFROM:+0100
TZOFFSETTO:+0200
TZNAME:CEST
DTSTART:20240331T010000
END:DAYLIGHT
BEGIN:STANDARD
TZOFFSETFROM:+0200
TZOFFSETTO:+0100
TZNAME:CET
DTSTART:20241027T010000
END:STANDARD
BEGIN:DAYLIGHT
TZOFFSETFROM:+0100
TZOFFSETTO:+0200
TZNAME:CEST
DTSTART:20250330T010000
END:DAYLIGHT
BEGIN:STANDARD
TZOFFSETFROM:+0200
TZOFFSETTO:+0100
TZNAME:CET
DTSTART:20251026T010000
END:STANDARD
BEGIN:DAYLIGHT
TZOFFSETFROM:+0100
TZOFFSETTO:+0200
TZNAME:CEST
DTSTART:20260329T010000
END:DAYLIGHT
BEGIN:STANDARD
TZOFFSETFROM:+0200
TZOFFSETTO:+0100
TZNAME:CET
DTSTART:20261025T010000
END:STANDARD
END:VTIMEZONE
BEGIN:VEVENT
DTSTART;TZID=Europe/Berlin:20250829T183000
DTEND;TZID=Europe/Berlin:20250829T220000
DTSTAMP:20260420T174449
CREATED:20250616T072721Z
LAST-MODIFIED:20250616T072722Z
UID:10005071-1756492200-1756504800@duene-lueneburg.de
SUMMARY:Offene [DÜNE] Bühne
DESCRIPTION:Es ist wieder soweit: DÜNE frei für lokale Musiker*Innen! „Kommt in die DÜNE-Yeah“ und erlebt einen bunten\, musikalischen Freitag-Abend. Die RPW DÜNE-Band eröffnet den Abend\, es folgen vielfältige musikalische Beiträge weiterer Künstler*Innen\, bis wir den Abend alle gemeinsam bei der Session singend und tanzend zum Ausklang bringen. \n\n\n\nKlingt das nicht jetzt schon gut? Kommt vorbei! Eintritt frei! \n\n\n\nEinlass ab 18 Uhr (vorher Soundcheck und die Türen bleiben noch geschlossen) Start 18:30 Uhr. \n\n\n\nDu bist Musiker*In und möchtest auch gern auf die charmante DÜNE-Bühne? Melde dich per Mail bei Sandra Kawka: s.kawka@lhlh.org
URL:https://duene-lueneburg.de/veranstaltung/offene-duene-buehne-6/2025-08-29/
LOCATION:DÜNE Lüneburg\, Am Sande 27\, Lüneburg\, Niedersachsen\, 21335\, Germany
ORGANIZER;CN="Sandra Kawka":MAILTO:s.kawka@lhlh.org
END:VEVENT
END:VCALENDAR