BEGIN:VCALENDAR
VERSION:2.0
PRODID:-//Düne Lüneburg - ECPv6.15.20//NONSGML v1.0//EN
CALSCALE:GREGORIAN
METHOD:PUBLISH
X-WR-CALNAME:Düne Lüneburg
X-ORIGINAL-URL:https://duene-lueneburg.de
X-WR-CALDESC:Veranstaltungen für Düne Lüneburg
REFRESH-INTERVAL;VALUE=DURATION:PT1H
X-Robots-Tag:noindex
X-PUBLISHED-TTL:PT1H
BEGIN:VTIMEZONE
TZID:Europe/Berlin
BEGIN:DAYLIGHT
TZOFFSETFROM:+0100
TZOFFSETTO:+0200
TZNAME:CEST
DTSTART:20250330T010000
END:DAYLIGHT
BEGIN:STANDARD
TZOFFSETFROM:+0200
TZOFFSETTO:+0100
TZNAME:CET
DTSTART:20251026T010000
END:STANDARD
BEGIN:DAYLIGHT
TZOFFSETFROM:+0100
TZOFFSETTO:+0200
TZNAME:CEST
DTSTART:20260329T010000
END:DAYLIGHT
BEGIN:STANDARD
TZOFFSETFROM:+0200
TZOFFSETTO:+0100
TZNAME:CET
DTSTART:20261025T010000
END:STANDARD
BEGIN:DAYLIGHT
TZOFFSETFROM:+0100
TZOFFSETTO:+0200
TZNAME:CEST
DTSTART:20270328T010000
END:DAYLIGHT
BEGIN:STANDARD
TZOFFSETFROM:+0200
TZOFFSETTO:+0100
TZNAME:CET
DTSTART:20271031T010000
END:STANDARD
END:VTIMEZONE
BEGIN:VEVENT
DTSTART;TZID=Europe/Berlin:20260418T093000
DTEND;TZID=Europe/Berlin:20260418T113000
DTSTAMP:20260419T160611
CREATED:20260126T125031Z
LAST-MODIFIED:20260401T140253Z
UID:5328-1776504600-1776511800@duene-lueneburg.de
SUMMARY:LongCovid Selbsthilfegruppe Samstagsbrunch
DESCRIPTION:Eine offene Selbsthilfegruppe für Menschen\, die von Long- oder Post-Covid betroffen sind und die Gemeinschaft suchen\, raus aus der Isolation wollen und ihre Selbstwirksamkeit stärken möchten. \n\n\n\nIn geschützter und wertschätzender Atmosphäre tauschen wir uns aus\, finden Unterstützung im Umgang mit den Herausforderungen der Erkrankung und den Konsequenzen im Alltag\, teilen unsere Erfahrungen und Wissen miteinander und erarbeiten Perspektiven und Bewältigungsstrategien. \n\n\n\nUnsere Treffen finden in der DÜNE oder online statt.  \n\n\n\nMelden Sie sich gern direkt bei uns unter  longcovidlueneburg@gmail.com
URL:https://duene-lueneburg.de/veranstaltung/longcovid-samstagsbrunch-2/
ATTACH;FMTTYPE=image/jpeg:https://duene-lueneburg.de/wp-content/uploads/2022/07/people-g191d0851e_1280.jpg
END:VEVENT
END:VCALENDAR