BEGIN:VCALENDAR
VERSION:2.0
PRODID:-//Düne Lüneburg - ECPv6.15.20//NONSGML v1.0//EN
CALSCALE:GREGORIAN
METHOD:PUBLISH
X-WR-CALNAME:Düne Lüneburg
X-ORIGINAL-URL:https://duene-lueneburg.de
X-WR-CALDESC:Veranstaltungen für Düne Lüneburg
REFRESH-INTERVAL;VALUE=DURATION:PT1H
X-Robots-Tag:noindex
X-PUBLISHED-TTL:PT1H
BEGIN:VTIMEZONE
TZID:Europe/Berlin
BEGIN:DAYLIGHT
TZOFFSETFROM:+0100
TZOFFSETTO:+0200
TZNAME:CEST
DTSTART:20230326T010000
END:DAYLIGHT
BEGIN:STANDARD
TZOFFSETFROM:+0200
TZOFFSETTO:+0100
TZNAME:CET
DTSTART:20231029T010000
END:STANDARD
BEGIN:DAYLIGHT
TZOFFSETFROM:+0100
TZOFFSETTO:+0200
TZNAME:CEST
DTSTART:20240331T010000
END:DAYLIGHT
BEGIN:STANDARD
TZOFFSETFROM:+0200
TZOFFSETTO:+0100
TZNAME:CET
DTSTART:20241027T010000
END:STANDARD
BEGIN:DAYLIGHT
TZOFFSETFROM:+0100
TZOFFSETTO:+0200
TZNAME:CEST
DTSTART:20250330T010000
END:DAYLIGHT
BEGIN:STANDARD
TZOFFSETFROM:+0200
TZOFFSETTO:+0100
TZNAME:CET
DTSTART:20251026T010000
END:STANDARD
END:VTIMEZONE
BEGIN:VEVENT
DTSTART;TZID=Europe/Berlin:20241109T170000
DTEND;TZID=Europe/Berlin:20241109T220000
DTSTAMP:20260421T124841
CREATED:20240227T130804Z
LAST-MODIFIED:20241112T103310Z
UID:2610-1731171600-1731189600@duene-lueneburg.de
SUMMARY:Wortkollektiv: Herbstlesen
DESCRIPTION:Die beliebte Lesung der Lüneburger Autor*innengruppe Wortkollektiv geht ins dritte Jahr!
URL:https://duene-lueneburg.de/veranstaltung/lesung/
LOCATION:DÜNE – Bildungs- und Kulturzentrum\, Am Sande 27\, Lüneburg
CATEGORIES:Lesung
ATTACH;FMTTYPE=image/png:https://duene-lueneburg.de/wp-content/uploads/2023/08/book-2029743_1280.png
ORGANIZER;CN="Wortkollektiv":MAILTO:j.tartas@lhlh.org
END:VEVENT
END:VCALENDAR