BEGIN:VCALENDAR
VERSION:2.0
PRODID:-//Düne Lüneburg - ECPv6.15.20//NONSGML v1.0//EN
CALSCALE:GREGORIAN
METHOD:PUBLISH
X-WR-CALNAME:Düne Lüneburg
X-ORIGINAL-URL:https://duene-lueneburg.de
X-WR-CALDESC:Veranstaltungen für Düne Lüneburg
REFRESH-INTERVAL;VALUE=DURATION:PT1H
X-Robots-Tag:noindex
X-PUBLISHED-TTL:PT1H
BEGIN:VTIMEZONE
TZID:Europe/Berlin
BEGIN:DAYLIGHT
TZOFFSETFROM:+0100
TZOFFSETTO:+0200
TZNAME:CEST
DTSTART:20230326T010000
END:DAYLIGHT
BEGIN:STANDARD
TZOFFSETFROM:+0200
TZOFFSETTO:+0100
TZNAME:CET
DTSTART:20231029T010000
END:STANDARD
BEGIN:DAYLIGHT
TZOFFSETFROM:+0100
TZOFFSETTO:+0200
TZNAME:CEST
DTSTART:20240331T010000
END:DAYLIGHT
BEGIN:STANDARD
TZOFFSETFROM:+0200
TZOFFSETTO:+0100
TZNAME:CET
DTSTART:20241027T010000
END:STANDARD
BEGIN:DAYLIGHT
TZOFFSETFROM:+0100
TZOFFSETTO:+0200
TZNAME:CEST
DTSTART:20250330T010000
END:DAYLIGHT
BEGIN:STANDARD
TZOFFSETFROM:+0200
TZOFFSETTO:+0100
TZNAME:CET
DTSTART:20251026T010000
END:STANDARD
END:VTIMEZONE
BEGIN:VEVENT
DTSTART;TZID=Europe/Berlin:20240302T110000
DTEND;TZID=Europe/Berlin:20240302T140000
DTSTAMP:20260419T143226
CREATED:20240227T122117Z
LAST-MODIFIED:20240227T122118Z
UID:2580-1709377200-1709388000@duene-lueneburg.de
SUMMARY:LernLust jetzt! Bildungs-Talk mit dem LernLust Bündnis in Lüneburg
DESCRIPTION:Wir laden alle Bildungsinteressierten ein\, miteinander ins Gespräch zu kommen über Fragen wie: \n\n\n\n💡Was macht eine zeitgemäße Bildung aus?💡Welche Transformationen im Bildungswesen braucht es?💡Wie kann Schule zu einem Ort werden\, die Lust auf Lernen weckt? \n\n\n\nAls Gast beim Bildungs-Talk begrüßen wir Silke Weiß\, Gründerin von Pioneers of education und der LernKulturZeit Akademie\, die zurzeit auf „LernCoolTour“ durch Deutschland ist. Die LernKulturZeit sieht in den Schulen die wichtigsten Potentialentfaltungsorte des 21. Jahrhunderts. \n\n\n\nWir wollen mit dieser Veranstaltung eine Bildungsdiskussion anstoßen\, die die Herausforderungen unserer Zeit als Chance für eine positive Veränderung nicht nur in Schule\, sondern auch unserer Gesellschaft sieht.
URL:https://duene-lueneburg.de/veranstaltung/lernlust-jetzt-bildungs-talk-mit-dem-lernlust-buendnis-in-lueneburg/
LOCATION:DÜNE – Bildungs- und Kulturzentrum\, Am Sande 27\, Lüneburg
CATEGORIES:Gespräch
ATTACH;FMTTYPE=image/jpeg:https://duene-lueneburg.de/wp-content/uploads/2023/08/idea-7526709_1280.jpg
END:VEVENT
END:VCALENDAR