BEGIN:VCALENDAR
VERSION:2.0
PRODID:-//Düne Lüneburg - ECPv6.15.20//NONSGML v1.0//EN
CALSCALE:GREGORIAN
METHOD:PUBLISH
X-WR-CALNAME:Düne Lüneburg
X-ORIGINAL-URL:https://duene-lueneburg.de
X-WR-CALDESC:Veranstaltungen für Düne Lüneburg
REFRESH-INTERVAL;VALUE=DURATION:PT1H
X-Robots-Tag:noindex
X-PUBLISHED-TTL:PT1H
BEGIN:VTIMEZONE
TZID:Europe/Berlin
BEGIN:DAYLIGHT
TZOFFSETFROM:+0100
TZOFFSETTO:+0200
TZNAME:CEST
DTSTART:20240331T010000
END:DAYLIGHT
BEGIN:STANDARD
TZOFFSETFROM:+0200
TZOFFSETTO:+0100
TZNAME:CET
DTSTART:20241027T010000
END:STANDARD
BEGIN:DAYLIGHT
TZOFFSETFROM:+0100
TZOFFSETTO:+0200
TZNAME:CEST
DTSTART:20250330T010000
END:DAYLIGHT
BEGIN:STANDARD
TZOFFSETFROM:+0200
TZOFFSETTO:+0100
TZNAME:CET
DTSTART:20251026T010000
END:STANDARD
BEGIN:DAYLIGHT
TZOFFSETFROM:+0100
TZOFFSETTO:+0200
TZNAME:CEST
DTSTART:20260329T010000
END:DAYLIGHT
BEGIN:STANDARD
TZOFFSETFROM:+0200
TZOFFSETTO:+0100
TZNAME:CET
DTSTART:20261025T010000
END:STANDARD
END:VTIMEZONE
BEGIN:VEVENT
DTSTART;TZID=Europe/Berlin:20250124T150000
DTEND;TZID=Europe/Berlin:20250124T163000
DTSTAMP:20260419T204626
CREATED:20240917T102508Z
LAST-MODIFIED:20250115T133046Z
UID:10004133-1737730800-1737736200@duene-lueneburg.de
SUMMARY:DünAmo-Café
DESCRIPTION:Das DünAmo-Café ist ein inklusiver Treffpunkt für ALLE Kulturinteressierte. Bei Kaffee und Kuchen lernen sich Menschen in der DÜNE kennen\, um gemeinsam kulturelle Veranstaltungen zu besuchen. Das DünAmo-Projekt unterstützt Menschen Begleitung zu finden\, günstigeren Zugang zu Veranstaltungen zu bekommen\, und tolle Möglichkeiten in und um Lüneburg zu entdecken\, wo man hingehen könnte.  \n\n\n\nBeim DünAmo-Café tauschen wir uns über unsere Erlebnisse aus\, geben uns Tipps und verabreden uns\, um zusammen loszugehen.
URL:https://duene-lueneburg.de/veranstaltung/duenamo-cafe/2025-01-24/
END:VEVENT
END:VCALENDAR