BEGIN:VCALENDAR
VERSION:2.0
PRODID:-//Düne Lüneburg - ECPv6.15.20//NONSGML v1.0//EN
CALSCALE:GREGORIAN
METHOD:PUBLISH
X-WR-CALNAME:Düne Lüneburg
X-ORIGINAL-URL:https://duene-lueneburg.de
X-WR-CALDESC:Veranstaltungen für Düne Lüneburg
REFRESH-INTERVAL;VALUE=DURATION:PT1H
X-Robots-Tag:noindex
X-PUBLISHED-TTL:PT1H
BEGIN:VTIMEZONE
TZID:Europe/Berlin
BEGIN:DAYLIGHT
TZOFFSETFROM:+0100
TZOFFSETTO:+0200
TZNAME:CEST
DTSTART:20230326T010000
END:DAYLIGHT
BEGIN:STANDARD
TZOFFSETFROM:+0200
TZOFFSETTO:+0100
TZNAME:CET
DTSTART:20231029T010000
END:STANDARD
BEGIN:DAYLIGHT
TZOFFSETFROM:+0100
TZOFFSETTO:+0200
TZNAME:CEST
DTSTART:20240331T010000
END:DAYLIGHT
BEGIN:STANDARD
TZOFFSETFROM:+0200
TZOFFSETTO:+0100
TZNAME:CET
DTSTART:20241027T010000
END:STANDARD
BEGIN:DAYLIGHT
TZOFFSETFROM:+0100
TZOFFSETTO:+0200
TZNAME:CEST
DTSTART:20250330T010000
END:DAYLIGHT
BEGIN:STANDARD
TZOFFSETFROM:+0200
TZOFFSETTO:+0100
TZNAME:CET
DTSTART:20251026T010000
END:STANDARD
END:VTIMEZONE
BEGIN:VEVENT
DTSTART;TZID=Europe/Berlin:20241011T140000
DTEND;TZID=Europe/Berlin:20241011T163000
DTSTAMP:20260424T122950
CREATED:20240813T105309Z
LAST-MODIFIED:20240903T111028Z
UID:3266-1728655200-1728664200@duene-lueneburg.de
SUMMARY:DünAmo Café
DESCRIPTION:Düne und Mosaique arbeiten zusammen: Kultur für Alle! \n\n\n\nDas Projekt ist eine Kooperation zwischen der DÜNE und dem „mosaique-Haus der Kulturen“ und setzt sich zum Ziel\, Menschen den Zugang zu Kultur in und um Lüneburg zu erleichtern\, also: einfach mal häufiger losgehen und gemeinsam was erleben!  \n\n\n\nDas DünAmo-Café ist ein offener Treffpunkt\, der regelmäßig in der DÜNE stattfinden wird. Hier kann man sich über das Besuchen von Konzerten\, Kino\, Theater (und mehr) informieren\, sich kennenlernen\, austauschen und sich gemeinsam zu Veranstaltungen verabreden. Man kann auch Fragen stellen und Wünsche äußern. Das erste Treffen (der 30.08.2024\, 15:30 Uhr) lassen wir farbenfroh mit einer Kunstausstellung zum Thema „Vögel dieser Erde“ ausklingen. \n\n\n\nBitte um Anmeldung bei eurer DünAmo-Ansprechpartnerin Sandra Kawka
URL:https://duene-lueneburg.de/veranstaltung/duenamo-cafe-2/
ORGANIZER;CN="Sandra Kawka":MAILTO:s.kawka@lhlh.org
END:VEVENT
END:VCALENDAR